BEGIN:VCALENDAR
VERSION:2.0
PRODID:-//Modellflugsportverein Kiel e. V. - ECPv6.15.18//NONSGML v1.0//EN
CALSCALE:GREGORIAN
METHOD:PUBLISH
X-ORIGINAL-URL:https://www.mfsv-kiel.de
X-WR-CALDESC:Veranstaltungen für Modellflugsportverein Kiel e. V.
REFRESH-INTERVAL;VALUE=DURATION:PT1H
X-Robots-Tag:noindex
X-PUBLISHED-TTL:PT1H
BEGIN:VTIMEZONE
TZID:Europe/Berlin
BEGIN:DAYLIGHT
TZOFFSETFROM:+0100
TZOFFSETTO:+0200
TZNAME:CEST
DTSTART:20240331T010000
END:DAYLIGHT
BEGIN:STANDARD
TZOFFSETFROM:+0200
TZOFFSETTO:+0100
TZNAME:CET
DTSTART:20241027T010000
END:STANDARD
BEGIN:DAYLIGHT
TZOFFSETFROM:+0100
TZOFFSETTO:+0200
TZNAME:CEST
DTSTART:20250330T010000
END:DAYLIGHT
BEGIN:STANDARD
TZOFFSETFROM:+0200
TZOFFSETTO:+0100
TZNAME:CET
DTSTART:20251026T010000
END:STANDARD
BEGIN:DAYLIGHT
TZOFFSETFROM:+0100
TZOFFSETTO:+0200
TZNAME:CEST
DTSTART:20260329T010000
END:DAYLIGHT
BEGIN:STANDARD
TZOFFSETFROM:+0200
TZOFFSETTO:+0100
TZNAME:CET
DTSTART:20261025T010000
END:STANDARD
END:VTIMEZONE
BEGIN:VEVENT
DTSTART;VALUE=DATE:20250404
DTEND;VALUE=DATE:20250405
DTSTAMP:20260421T221310
CREATED:20250312T215356Z
LAST-MODIFIED:20250312T215356Z
UID:1741-1743724800-1743811199@www.mfsv-kiel.de
SUMMARY:Arbeitseinsatz (max. 10 Personen)
DESCRIPTION:Herstellen des Grabens von der Schranke zum Tower für Kabel/Wasserleitung & Verlegung. Hier haben wir die Unterstützung durch einen Bagger inkl. Fahrer.
URL:https://www.mfsv-kiel.de/event/arbeitseinsatz-max-10-personen/
LOCATION:Modellflugplatz Langwedel\, Modellflugplatz des Modellflugsport-Verein Kiel e. V.
END:VEVENT
BEGIN:VEVENT
DTSTART;VALUE=DATE:20250405
DTEND;VALUE=DATE:20250406
DTSTAMP:20260421T221310
CREATED:20250312T215450Z
LAST-MODIFIED:20250312T215450Z
UID:1743-1743811200-1743897599@www.mfsv-kiel.de
SUMMARY:Arbeitseinsatz
DESCRIPTION:Verfüllen des Grabens und Wiederherstellung der Oberfläche
URL:https://www.mfsv-kiel.de/event/arbeitseinsatz-4/
LOCATION:Modellflugplatz Langwedel\, Modellflugplatz des Modellflugsport-Verein Kiel e. V.
END:VEVENT
BEGIN:VEVENT
DTSTART;TZID=Europe/Berlin:20250410T160000
DTEND;TZID=Europe/Berlin:20250410T200000
DTSTAMP:20260421T221310
CREATED:20250101T190439Z
LAST-MODIFIED:20250101T190440Z
UID:1664-1744300800-1744315200@www.mfsv-kiel.de
SUMMARY:Fliegerstammtisch
DESCRIPTION:
URL:https://www.mfsv-kiel.de/event/fliegerstammtisch-8/
LOCATION:Modellflugplatz Langwedel\, Modellflugplatz des Modellflugsport-Verein Kiel e. V.
END:VEVENT
BEGIN:VEVENT
DTSTART;TZID=Europe/Berlin:20250426T120000
DTEND;TZID=Europe/Berlin:20250426T180000
DTSTAMP:20260421T221310
CREATED:20250412T060128Z
LAST-MODIFIED:20250425T122540Z
UID:1747-1745668800-1745690400@www.mfsv-kiel.de
SUMMARY:Schlepptreffen
DESCRIPTION:Ab 12 Uhr sind zwei ordentliche Schlepper einsatzbereit.
URL:https://www.mfsv-kiel.de/event/1-schlepptreffen/
LOCATION:Modellflugplatz Langwedel\, Modellflugplatz des Modellflugsport-Verein Kiel e. V.
END:VEVENT
END:VCALENDAR