BEGIN:VCALENDAR
VERSION:2.0
PRODID:-//Modellflugsportverein Kiel e. V. - ECPv6.15.18//NONSGML v1.0//EN
CALSCALE:GREGORIAN
METHOD:PUBLISH
X-ORIGINAL-URL:https://www.mfsv-kiel.de
X-WR-CALDESC:Veranstaltungen für Modellflugsportverein Kiel e. V.
REFRESH-INTERVAL;VALUE=DURATION:PT1H
X-Robots-Tag:noindex
X-PUBLISHED-TTL:PT1H
BEGIN:VTIMEZONE
TZID:Europe/Berlin
BEGIN:DAYLIGHT
TZOFFSETFROM:+0100
TZOFFSETTO:+0200
TZNAME:CEST
DTSTART:20240331T010000
END:DAYLIGHT
BEGIN:STANDARD
TZOFFSETFROM:+0200
TZOFFSETTO:+0100
TZNAME:CET
DTSTART:20241027T010000
END:STANDARD
BEGIN:DAYLIGHT
TZOFFSETFROM:+0100
TZOFFSETTO:+0200
TZNAME:CEST
DTSTART:20250330T010000
END:DAYLIGHT
BEGIN:STANDARD
TZOFFSETFROM:+0200
TZOFFSETTO:+0100
TZNAME:CET
DTSTART:20251026T010000
END:STANDARD
BEGIN:DAYLIGHT
TZOFFSETFROM:+0100
TZOFFSETTO:+0200
TZNAME:CEST
DTSTART:20260329T010000
END:DAYLIGHT
BEGIN:STANDARD
TZOFFSETFROM:+0200
TZOFFSETTO:+0100
TZNAME:CET
DTSTART:20261025T010000
END:STANDARD
BEGIN:DAYLIGHT
TZOFFSETFROM:+0100
TZOFFSETTO:+0200
TZNAME:CEST
DTSTART:20270328T010000
END:DAYLIGHT
BEGIN:STANDARD
TZOFFSETFROM:+0200
TZOFFSETTO:+0100
TZNAME:CET
DTSTART:20271031T010000
END:STANDARD
END:VTIMEZONE
BEGIN:VEVENT
DTSTART;TZID=Europe/Berlin:20260411T100000
DTEND;TZID=Europe/Berlin:20260411T130000
DTSTAMP:20260423T124901
CREATED:20260405T163108Z
LAST-MODIFIED:20260405T163109Z
UID:2058-1775901600-1775912400@www.mfsv-kiel.de
SUMMARY:Arbeitseinsatz
DESCRIPTION:Für die Verpflegung mit Frühstückskaffee & Keksen und einer Bratwurst gegen 13:00 Uhr wird gesorgt!
URL:https://www.mfsv-kiel.de/event/arbeitseinsatz-5/
LOCATION:Modellflugplatz Langwedel\, Modellflugplatz des Modellflugsport-Verein Kiel e. V.
END:VEVENT
BEGIN:VEVENT
DTSTART;TZID=Europe/Berlin:20260411T093000
DTEND;TZID=Europe/Berlin:20260411T100000
DTSTAMP:20260423T124901
CREATED:20260405T163008Z
LAST-MODIFIED:20260405T163008Z
UID:2056-1775899800-1775901600@www.mfsv-kiel.de
SUMMARY:außerordentliche Mitgliederversammlung
DESCRIPTION:Dauer max. 30min\, danach Platzpflege
URL:https://www.mfsv-kiel.de/event/ausserordentliche-mitgliederversammlung-2/
LOCATION:Modellflugplatz Langwedel\, Modellflugplatz des Modellflugsport-Verein Kiel e. V.
END:VEVENT
BEGIN:VEVENT
DTSTART;TZID=Europe/Berlin:20260409T160000
DTEND;TZID=Europe/Berlin:20260409T200000
DTSTAMP:20260423T124901
CREATED:20260405T163543Z
LAST-MODIFIED:20260405T163544Z
UID:2066-1775750400-1775764800@www.mfsv-kiel.de
SUMMARY:Fliegerstammtisch
DESCRIPTION:
URL:https://www.mfsv-kiel.de/event/fliegerstammtisch-15/
LOCATION:Modellflugplatz Langwedel\, Modellflugplatz des Modellflugsport-Verein Kiel e. V.
END:VEVENT
BEGIN:VEVENT
DTSTART;TZID=Europe/Berlin:20260307T140000
DTEND;TZID=Europe/Berlin:20260307T170000
DTSTAMP:20260423T124901
CREATED:20250930T193743Z
LAST-MODIFIED:20250930T193743Z
UID:2015-1772892000-1772902800@www.mfsv-kiel.de
SUMMARY:Hallenfliegen
DESCRIPTION:
URL:https://www.mfsv-kiel.de/event/hallenfliegen-26/
LOCATION:Sporthalle der Fritz Reuter Schule\, Fritz-Reuter-Straße 79\, Kiel-Friedrichsort\, 24159\, Germany
END:VEVENT
BEGIN:VEVENT
DTSTART;TZID=Europe/Berlin:20260221T140000
DTEND;TZID=Europe/Berlin:20260221T170000
DTSTAMP:20260423T124901
CREATED:20250930T193703Z
LAST-MODIFIED:20250930T193855Z
UID:2013-1771682400-1771693200@www.mfsv-kiel.de
SUMMARY:Hallenfliegen
DESCRIPTION:
URL:https://www.mfsv-kiel.de/event/hallenfliegen-25/
LOCATION:Sporthalle der Fritz Reuter Schule\, Fritz-Reuter-Straße 79\, Kiel-Friedrichsort\, 24159\, Germany
END:VEVENT
BEGIN:VEVENT
DTSTART;TZID=Europe/Berlin:20260207T140000
DTEND;TZID=Europe/Berlin:20260207T170000
DTSTAMP:20260423T124901
CREATED:20250930T193611Z
LAST-MODIFIED:20250930T193611Z
UID:2011-1770472800-1770483600@www.mfsv-kiel.de
SUMMARY:Hallenfliegen
DESCRIPTION:
URL:https://www.mfsv-kiel.de/event/hallenfliegen-24/
LOCATION:Sporthalle der Fritz Reuter Schule\, Fritz-Reuter-Straße 79\, Kiel-Friedrichsort\, 24159\, Germany
END:VEVENT
BEGIN:VEVENT
DTSTART;TZID=Europe/Berlin:20260130T180000
DTEND;TZID=Europe/Berlin:20260130T220000
DTSTAMP:20260423T124901
CREATED:20260105T085746Z
LAST-MODIFIED:20260105T085746Z
UID:2043-1769796000-1769810400@www.mfsv-kiel.de
SUMMARY:Grünkohlessen
DESCRIPTION:Nur bei erfolgter Anmeldung!
URL:https://www.mfsv-kiel.de/event/gruenkohlessen-3/
END:VEVENT
BEGIN:VEVENT
DTSTART;TZID=Europe/Berlin:20260124T140000
DTEND;TZID=Europe/Berlin:20260124T170000
DTSTAMP:20260423T124901
CREATED:20250930T193537Z
LAST-MODIFIED:20250930T193537Z
UID:2009-1769263200-1769274000@www.mfsv-kiel.de
SUMMARY:Hallenfliegen
DESCRIPTION:
URL:https://www.mfsv-kiel.de/event/hallenfliegen-23/
LOCATION:Sporthalle der Fritz Reuter Schule\, Fritz-Reuter-Straße 79\, Kiel-Friedrichsort\, 24159\, Germany
END:VEVENT
BEGIN:VEVENT
DTSTART;TZID=Europe/Berlin:20260110T140000
DTEND;TZID=Europe/Berlin:20260110T170000
DTSTAMP:20260423T124901
CREATED:20250930T193500Z
LAST-MODIFIED:20250930T193500Z
UID:2007-1768053600-1768064400@www.mfsv-kiel.de
SUMMARY:Hallenfliegen
DESCRIPTION:
URL:https://www.mfsv-kiel.de/event/hallenfliegen-22/
LOCATION:Sporthalle der Fritz Reuter Schule\, Fritz-Reuter-Straße 79\, Kiel-Friedrichsort\, 24159\, Germany
END:VEVENT
BEGIN:VEVENT
DTSTART;TZID=Europe/Berlin:20260110T100000
DTEND;TZID=Europe/Berlin:20260110T140000
DTSTAMP:20260423T124901
CREATED:20250101T191649Z
LAST-MODIFIED:20250101T191649Z
UID:1686-1768039200-1768053600@www.mfsv-kiel.de
SUMMARY:Anfliegen
DESCRIPTION:
URL:https://www.mfsv-kiel.de/event/anfliegen-3/
LOCATION:Modellflugplatz Langwedel\, Modellflugplatz des Modellflugsport-Verein Kiel e. V.
END:VEVENT
BEGIN:VEVENT
DTSTART;TZID=Europe/Berlin:20251231T100000
DTEND;TZID=Europe/Berlin:20251231T140000
DTSTAMP:20260423T124901
CREATED:20250101T191556Z
LAST-MODIFIED:20250101T191557Z
UID:1684-1767175200-1767189600@www.mfsv-kiel.de
SUMMARY:Abfliegen
DESCRIPTION:
URL:https://www.mfsv-kiel.de/event/abfliegen-2/
LOCATION:Modellflugplatz Langwedel\, Modellflugplatz des Modellflugsport-Verein Kiel e. V.
END:VEVENT
BEGIN:VEVENT
DTSTART;TZID=Europe/Berlin:20251213T140000
DTEND;TZID=Europe/Berlin:20251213T170000
DTSTAMP:20260423T124901
CREATED:20250930T193427Z
LAST-MODIFIED:20250930T193427Z
UID:2005-1765634400-1765645200@www.mfsv-kiel.de
SUMMARY:Hallenfliegen
DESCRIPTION:
URL:https://www.mfsv-kiel.de/event/hallenfliegen-21/
LOCATION:Sporthalle der Fritz Reuter Schule\, Fritz-Reuter-Straße 79\, Kiel-Friedrichsort\, 24159\, Germany
END:VEVENT
BEGIN:VEVENT
DTSTART;TZID=Europe/Berlin:20251129T140000
DTEND;TZID=Europe/Berlin:20251129T170000
DTSTAMP:20260423T124901
CREATED:20250930T193344Z
LAST-MODIFIED:20250930T193344Z
UID:2003-1764424800-1764435600@www.mfsv-kiel.de
SUMMARY:Hallenfliegen
DESCRIPTION:
URL:https://www.mfsv-kiel.de/event/hallenfliegen-20/
LOCATION:Sporthalle der Fritz Reuter Schule\, Fritz-Reuter-Straße 79\, Kiel-Friedrichsort\, 24159\, Germany
END:VEVENT
BEGIN:VEVENT
DTSTART;TZID=Europe/Berlin:20251115T140000
DTEND;TZID=Europe/Berlin:20251115T170000
DTSTAMP:20260423T124901
CREATED:20250930T193309Z
LAST-MODIFIED:20250930T193310Z
UID:2001-1763215200-1763226000@www.mfsv-kiel.de
SUMMARY:Hallenfliegen
DESCRIPTION:
URL:https://www.mfsv-kiel.de/event/hallenfliegen-19/
LOCATION:Sporthalle der Fritz Reuter Schule\, Fritz-Reuter-Straße 79\, Kiel-Friedrichsort\, 24159\, Germany
END:VEVENT
BEGIN:VEVENT
DTSTART;TZID=Europe/Berlin:20251101T140000
DTEND;TZID=Europe/Berlin:20251101T170000
DTSTAMP:20260423T124901
CREATED:20250930T193234Z
LAST-MODIFIED:20250930T193234Z
UID:1999-1762005600-1762016400@www.mfsv-kiel.de
SUMMARY:Hallenfliegen
DESCRIPTION:
URL:https://www.mfsv-kiel.de/event/hallenfliegen-18/
LOCATION:Sporthalle der Fritz Reuter Schule\, Fritz-Reuter-Straße 79\, Kiel-Friedrichsort\, 24159\, Germany
END:VEVENT
BEGIN:VEVENT
DTSTART;TZID=Europe/Berlin:20251025T130000
DTEND;TZID=Europe/Berlin:20251025T180000
DTSTAMP:20260423T124901
CREATED:20250523T141501Z
LAST-MODIFIED:20250530T145529Z
UID:1830-1761397200-1761415200@www.mfsv-kiel.de
SUMMARY:Schlepptreffen
DESCRIPTION:Seglerschlepp\, parallel zum regulären Flugbetrieb auf dem Platz. Die Zeiten sind als ungefähre Angaben zu verstehen.
URL:https://www.mfsv-kiel.de/event/schlepptreffen-5/
LOCATION:Modellflugplatz Langwedel\, Modellflugplatz des Modellflugsport-Verein Kiel e. V.
END:VEVENT
BEGIN:VEVENT
DTSTART;TZID=Europe/Berlin:20251018T140000
DTEND;TZID=Europe/Berlin:20251018T170000
DTSTAMP:20260423T124901
CREATED:20250930T193150Z
LAST-MODIFIED:20250930T193150Z
UID:1996-1760796000-1760806800@www.mfsv-kiel.de
SUMMARY:Hallenfliegen
DESCRIPTION:
URL:https://www.mfsv-kiel.de/event/hallenfliegen-17/
LOCATION:Sporthalle der Fritz Reuter Schule\, Fritz-Reuter-Straße 79\, Kiel-Friedrichsort\, 24159\, Germany
END:VEVENT
BEGIN:VEVENT
DTSTART;TZID=Europe/Berlin:20251009T160000
DTEND;TZID=Europe/Berlin:20251009T200000
DTSTAMP:20260423T124901
CREATED:20250101T191119Z
LAST-MODIFIED:20250101T191120Z
UID:1676-1760025600-1760040000@www.mfsv-kiel.de
SUMMARY:Fliegerstammtisch
DESCRIPTION:
URL:https://www.mfsv-kiel.de/event/fliegerstammtisch-14/
LOCATION:Modellflugplatz Langwedel\, Modellflugplatz des Modellflugsport-Verein Kiel e. V.
END:VEVENT
BEGIN:VEVENT
DTSTART;TZID=Europe/Berlin:20250927T130000
DTEND;TZID=Europe/Berlin:20250927T180000
DTSTAMP:20260423T124901
CREATED:20250523T141414Z
LAST-MODIFIED:20250530T145514Z
UID:1828-1758978000-1758996000@www.mfsv-kiel.de
SUMMARY:Schlepptreffen
DESCRIPTION:Seglerschlepp\, parallel zum regulären Flugbetrieb auf dem Platz. Die Zeiten sind als ungefähre Angaben zu verstehen.
URL:https://www.mfsv-kiel.de/event/schlepptreffen-4/
LOCATION:Modellflugplatz Langwedel\, Modellflugplatz des Modellflugsport-Verein Kiel e. V.
END:VEVENT
BEGIN:VEVENT
DTSTART;VALUE=DATE:20250912
DTEND;VALUE=DATE:20250915
DTSTAMP:20260423T124901
CREATED:20250101T191458Z
LAST-MODIFIED:20250524T070425Z
UID:1682-1757635200-1757894399@www.mfsv-kiel.de
SUMMARY:Seglerschlepp-Treffen "Schlepp & Schnack"
DESCRIPTION:
URL:https://www.mfsv-kiel.de/event/f-schlepp-treffen-schlepp-schack/
LOCATION:Modellflugplatz Langwedel\, Modellflugplatz des Modellflugsport-Verein Kiel e. V.
END:VEVENT
BEGIN:VEVENT
DTSTART;TZID=Europe/Berlin:20250911T160000
DTEND;TZID=Europe/Berlin:20250911T200000
DTSTAMP:20260423T124901
CREATED:20250101T191021Z
LAST-MODIFIED:20250101T191022Z
UID:1674-1757606400-1757620800@www.mfsv-kiel.de
SUMMARY:Fliegerstammtisch
DESCRIPTION:
URL:https://www.mfsv-kiel.de/event/fliegerstammtisch-13/
LOCATION:Modellflugplatz Langwedel\, Modellflugplatz des Modellflugsport-Verein Kiel e. V.
END:VEVENT
BEGIN:VEVENT
DTSTART;VALUE=DATE:20250824
DTEND;VALUE=DATE:20250825
DTSTAMP:20260423T124901
CREATED:20250117T205622Z
LAST-MODIFIED:20250117T210003Z
UID:1703-1755993600-1756079999@www.mfsv-kiel.de
SUMMARY:Extern: Seglerschlepp bei der MFG Bredstedt
DESCRIPTION:weitere Informationen: www.mfg-bredstedt.de
URL:https://www.mfsv-kiel.de/event/extern-f-schlepp-bei-der-mfg-bredstedt/
CATEGORIES:extern
END:VEVENT
BEGIN:VEVENT
DTSTART;TZID=Europe/Berlin:20250823T130000
DTEND;TZID=Europe/Berlin:20250823T180000
DTSTAMP:20260423T124901
CREATED:20250523T141330Z
LAST-MODIFIED:20250803T144537Z
UID:1826-1755954000-1755972000@www.mfsv-kiel.de
SUMMARY:Schlepptreffen
DESCRIPTION:ACHTUNG: wegen der zeitlichen Nähe zu Schlepp & Schnack eine Woche vorverlegt! \nSeglerschlepp\, parallel zum regulären Flugbetrieb auf dem Platz. Die Zeiten sind als ungefähre Angaben zu verstehen.
URL:https://www.mfsv-kiel.de/event/schlepptreffen-3/
LOCATION:Modellflugplatz Langwedel\, Modellflugplatz des Modellflugsport-Verein Kiel e. V.
END:VEVENT
BEGIN:VEVENT
DTSTART;VALUE=DATE:20250816
DTEND;VALUE=DATE:20250818
DTSTAMP:20260423T124901
CREATED:20250117T205429Z
LAST-MODIFIED:20250725T130257Z
UID:1701-1755302400-1755475199@www.mfsv-kiel.de
SUMMARY:Extern: Seglerschlepp bei der FAG Kaltenkichen
DESCRIPTION:weitere Informationen: www.fag-kaltenkirchen.de\nVereinsflugbetrieb am Sonntag \n  \nLiebe F-Schleppfreunde\,\ndie FAG Kaltenkirchen freut sich\, Euch auch in diesem Jahr zu unserem traditionellen F-Schlepp-Treffen einzuladen!\nDer offizielle Teil findet am Samstag statt \, es kann gerne schon am Freitag angereist und geflogen werden und auch der Sonntag steht zum Fliegen im Vereinsrahmen zur Verfügung. Jeder Pilot mit ausreichender Haftpflichtversicherung und Zuschauer sind herzlich willkommen. Unser Flugplatz ist bis 25 kg Abfluggewicht zugelassen. Bitte alle Art von Seglern und Schleppmaschinen sowie gute Laune mitbringen !\nWir bitten um eine Kostenbeteiligung von 5 Euro.\nAb 10.00 Uhr ist Briefing.\nFür das leibliche Wohl wird gesorgt.\nDie Anfahrt zu unserem Flugplatz siehe Homepage\nDie Anreise ist bereits ab Freitag\, den 15.08.2025 mit Camping ist auf unserem Parkplatz möglich.\n(kein Trinkwasser und Strom vorhanden )\nWir würden uns über eine Teilnahme sehr freuen.\nÜber eine kurze Anmeldung sind wir dankbar \, damit wir entsprechend einkaufen können .\nAnsonsten gilt: weitersagen\, dabei sein und Spaß haben!
URL:https://www.mfsv-kiel.de/event/extern-f-schlepp-bei-der-fag-kaltenkichen/
LOCATION:FAG Kaltenkirchen Modellflugplatz\, 53.884611\, 9.931278
CATEGORIES:extern
END:VEVENT
BEGIN:VEVENT
DTSTART;TZID=Europe/Berlin:20250814T160000
DTEND;TZID=Europe/Berlin:20250814T200000
DTSTAMP:20260423T124901
CREATED:20250101T190920Z
LAST-MODIFIED:20250101T190920Z
UID:1672-1755187200-1755201600@www.mfsv-kiel.de
SUMMARY:Fliegerstammtisch
DESCRIPTION:
URL:https://www.mfsv-kiel.de/event/fliegerstammtisch-12/
LOCATION:Modellflugplatz Langwedel\, Modellflugplatz des Modellflugsport-Verein Kiel e. V.
END:VEVENT
BEGIN:VEVENT
DTSTART;TZID=Europe/Berlin:20250726T130000
DTEND;TZID=Europe/Berlin:20250726T180000
DTSTAMP:20260423T124901
CREATED:20250523T141245Z
LAST-MODIFIED:20250530T145433Z
UID:1824-1753534800-1753552800@www.mfsv-kiel.de
SUMMARY:Schlepptreffen
DESCRIPTION:Seglerschlepp\, parallel zum regulären Flugbetrieb auf dem Platz. Die Zeiten sind als ungefähre Angaben zu verstehen.
URL:https://www.mfsv-kiel.de/event/schlepptreffen-2/
LOCATION:Modellflugplatz Langwedel\, Modellflugplatz des Modellflugsport-Verein Kiel e. V.
END:VEVENT
BEGIN:VEVENT
DTSTART;VALUE=DATE:20250718
DTEND;VALUE=DATE:20250721
DTSTAMP:20260423T124901
CREATED:20250530T145038Z
LAST-MODIFIED:20250530T145113Z
UID:1883-1752796800-1753055999@www.mfsv-kiel.de
SUMMARY:Extern: Freundschaftsfliegen MSC Krogaspe
DESCRIPTION:Der Platz hat eine Zulassung bis 25Kg und erlaubt eine max. Flughöhe von 100m.\nVerbrenner dürfen leider vor 9:00 Uhr\, von 12:30 – 14:30 Uhr und ab 18:00 Uhr nicht fliegen.
URL:https://www.mfsv-kiel.de/event/freundschaftsfliegen-msc-krogaspe/
CATEGORIES:extern
END:VEVENT
BEGIN:VEVENT
DTSTART;VALUE=DATE:20250717
DTEND;VALUE=DATE:20250721
DTSTAMP:20260423T124901
CREATED:20250704T063225Z
LAST-MODIFIED:20250704T063225Z
UID:1914-1752710400-1753055999@www.mfsv-kiel.de
SUMMARY:Extern: Retro Nord
DESCRIPTION:Hiermit lädt die FAG Kaltenkirchen Euch wie jedes Jahr zu unserer beliebten Zeitreise in die Vergangenheit ein: zur RETRO NORD\, dieses Jahr von \n  \nDo. 17.07.2025 bis So. 20.07.2025 (der 17.07. ist als Anreisetag für die von weit anreisenden Piloten gedacht\, „offizieller“ Beginn dann am Freitag)\, \n  \nZur Erinnerung: \n  \nWas ist die RETRO NORD überhaupt? \nWir wollen das goldene Zeitalter des Modellbaus wieder aufleben lassen\, die Zeit der „Schnellbaukästen“ und der Lieblinge und Klassiker aus den alten Katalogen\, die ca. zwischen 1960 und 1990 auf dem Markt waren: Fesselflug mit Taifun-Diesel\, Taxi und Topsy\, Curare und Sultan\, Alpha\, Amigo 2 mit Cox-Motor und Huckepack-Schlepp mit Multiplex Big Lift statt Race-Copter\, EPP und Vollcarbon! \nBei aller Nostalgie sehen wir die Kriterien aber nicht allzu eng. \nMitmachen kann jeder Modellflieger mit jedem Flugmodell\, dessen Konstruktion ca. 25 Jahre oder älter ist. \nModifikationen\, die der Sicherheit und Verbesserung dienen\, sind gern gesehen. \nEs soll ein lockeres Spaß-Treffen werden – die Teilnehmer selbst bestimmen das „Programm“ und präsentieren ihre Modelle und ihr Können. \nFür alle\, die etwas zu verkaufen haben oder zu tauschen oder zu kaufen suchen\, gibt es einen gebührenfreien Flohmarkt. \n  \nZum Organisatorischen: \n  \nAufgrund der enormen Kostensteigerungen der letzten Jahre müssen wir leider erstmalig eine Teilnehmergebühr von 10 € erheben\, vor Ort zu entrichten. Ansonsten gilt wie schon in den Vorjahren: Die Piloten/Teilnehmer versorgen sich weitestgehend selbst. Wie von der FAG Kaltenkirchen aber gewohnt\, werden wir immer wieder mal unseren großen Rundgrill befeuern\, um Euch mit Grillwurst etc. zu erfreuen; wir werden Getränke wie Cola\, Wasser\, Bier sowie Kaffee vorhalten und Kuchen wird es auch ab und dann geben. Das alles natürlich zu angemessenen Preisen. \nZum Aufladen Eurer Flug-Akkus erzeugen wir Strom mittels einer PV-Anlage. \n  \nCamping/Wohnmobile:  \nEin gewünschtes Camping bitte unbedingt unter der E-Mail-Adresse jan.lamersdorf@web.de anmelden! Auf unserem Platz ist es leider nur in sehr begrenztem Maße möglich\, zu campen. \nToiletten sind vorhanden. Es gibt jedoch keine Wasserversorgung und auch keinen ausreichenden Strom\, um Wohnmobile zu versorgen. \n  \nDie nächste Versorgungsstation befindet sich ca. 8 km von unserem Flugplatz entfernt in \nKaltenkirchen\, Norderstraße beim Freizeitpark. \n  \nZur Anfahrt zu unserem Flugplatz siehe unsere Homepage \n  \nwww.fag-kaltenkirchen.de/anfahrt-flugplatz/ \n  \nAlso kommt vorbei mit Euren alten Motormodellen\, Seglern\, Helis\, Motoren\, RC-Anlagen und Fesselfluggriffen und lasst uns die “gute alte Zeit“ noch mal zum Leben erwecken! \n  \nDie FAG Kaltenkirchen freut sich auf Euch!
URL:https://www.mfsv-kiel.de/event/extern-retro-nord/
LOCATION:FAG Kaltenkirchen Modellflugplatz\, 53.884611\, 9.931278
CATEGORIES:extern
END:VEVENT
BEGIN:VEVENT
DTSTART;VALUE=DATE:20250711
DTEND;VALUE=DATE:20250714
DTSTAMP:20260423T124901
CREATED:20250117T205218Z
LAST-MODIFIED:20250117T205938Z
UID:1699-1752192000-1752451199@www.mfsv-kiel.de
SUMMARY:Extern: Seglerschlepp MFG Tarp
DESCRIPTION:weitere Infos: www.mfc-tarp.de
URL:https://www.mfsv-kiel.de/event/extern-f-schlepp-mfg-tarp/
LOCATION:Modellflug-Club Tarp e. V. Flugplatz\, Modellflug-Club Tarp e.V.\, Norderholzweg\, Jerrishoe\, Schleswig-Holstein\, 24963\, Deutschland
CATEGORIES:extern
END:VEVENT
BEGIN:VEVENT
DTSTART;TZID=Europe/Berlin:20250710T160000
DTEND;TZID=Europe/Berlin:20250710T200000
DTSTAMP:20260423T124901
CREATED:20250101T190819Z
LAST-MODIFIED:20250101T190819Z
UID:1670-1752163200-1752177600@www.mfsv-kiel.de
SUMMARY:Fliegerstammtisch
DESCRIPTION:
URL:https://www.mfsv-kiel.de/event/fliegerstammtisch-11/
LOCATION:Modellflugplatz Langwedel\, Modellflugplatz des Modellflugsport-Verein Kiel e. V.
END:VEVENT
END:VCALENDAR