BEGIN:VCALENDAR
VERSION:2.0
PRODID:-//Modellflugsportverein Kiel e. V. - ECPv6.15.18//NONSGML v1.0//EN
CALSCALE:GREGORIAN
METHOD:PUBLISH
X-ORIGINAL-URL:https://www.mfsv-kiel.de
X-WR-CALDESC:Veranstaltungen für Modellflugsportverein Kiel e. V.
REFRESH-INTERVAL;VALUE=DURATION:PT1H
X-Robots-Tag:noindex
X-PUBLISHED-TTL:PT1H
BEGIN:VTIMEZONE
TZID:Europe/Berlin
BEGIN:DAYLIGHT
TZOFFSETFROM:+0100
TZOFFSETTO:+0200
TZNAME:CEST
DTSTART:20230326T010000
END:DAYLIGHT
BEGIN:STANDARD
TZOFFSETFROM:+0200
TZOFFSETTO:+0100
TZNAME:CET
DTSTART:20231029T010000
END:STANDARD
BEGIN:DAYLIGHT
TZOFFSETFROM:+0100
TZOFFSETTO:+0200
TZNAME:CEST
DTSTART:20240331T010000
END:DAYLIGHT
BEGIN:STANDARD
TZOFFSETFROM:+0200
TZOFFSETTO:+0100
TZNAME:CET
DTSTART:20241027T010000
END:STANDARD
BEGIN:DAYLIGHT
TZOFFSETFROM:+0100
TZOFFSETTO:+0200
TZNAME:CEST
DTSTART:20250330T010000
END:DAYLIGHT
BEGIN:STANDARD
TZOFFSETFROM:+0200
TZOFFSETTO:+0100
TZNAME:CET
DTSTART:20251026T010000
END:STANDARD
END:VTIMEZONE
BEGIN:VEVENT
DTSTART;TZID=Europe/Berlin:20241019T120000
DTEND;TZID=Europe/Berlin:20241019T170000
DTSTAMP:20260422T122823
CREATED:20240928T195102Z
LAST-MODIFIED:20240928T195102Z
UID:1629-1729339200-1729357200@www.mfsv-kiel.de
SUMMARY:F-Schlepp
DESCRIPTION:Hallo Vereinskollegen\,\nhallo F-Schlepp interessierte\, \nin der letzten Zeit gab es immer wieder Gespräche um die Frage\, wie wir im MFSV Kiel das F-Schleppen wieder aktiver gestalten können. \nDarüber wollen wir mit euch zusammen diskutieren und Ideen sammeln\,\nam Samstag\, 19. Oktober 2024 ab 1400 Uhr auf dem Flugplatz in der Vereinshütte. \nBis jetzt haben sich drei Themengebiete herausgestellt: \n– (fixe) Schlepptermine über den Sommer verteilt\n– Vereins- Schleppmaschine\n– anlernen\, Schulung von jungen Vereins-Schlepp-Piloten \nSchlepptermine:\ndenkbar wäre ein oder zwei Samstage ab Mai bis Oktober\,\nTermininfo über HP und /oder WhatsApp „Schleppen am Samstag“\noder\, … oder… \nVereins-Schleppmaschine:\nkann\, soll sie in der Vereinshütte stationiert werden\,\nwer kann\, darf\, will sie fliegen\nwer ist für den technischen Zustand und Wartung zuständig\nusw.\, …\, …\, \nSchlepppiloten:\nEinbindung von interessierten Jungpiloten\,\nAusbildung zum Schlepp-Pilot\, verantwortliche Person(en)\nusw.\, …\, …\, \nAlso\, wir treffen uns am Samstag\, 19. Oktober 2024 auf dem Platz in Langwedel. Bei gutem Flugwetter schon ab 1200 zum Schleppen\, bei jedem Wetter ab 1400 Uhr in der Vereinshütte.\nFür Kaffee\, Tee und Lebkuchen ist gesorgt\, die Ideen kommen von euch. \nIn diesem Sinn immer ein straffes Schleppseil\nali\, Achim\, Helmut\, …
URL:https://www.mfsv-kiel.de/event/f-schlepp/
LOCATION:Modellflugplatz Langwedel\, Modellflugplatz des Modellflugsport-Verein Kiel e. V.
END:VEVENT
END:VCALENDAR