BEGIN:VCALENDAR
VERSION:2.0
PRODID:-//Modellflugsportverein Kiel e. V. - ECPv6.15.18//NONSGML v1.0//EN
CALSCALE:GREGORIAN
METHOD:PUBLISH
X-ORIGINAL-URL:https://www.mfsv-kiel.de
X-WR-CALDESC:Veranstaltungen für Modellflugsportverein Kiel e. V.
REFRESH-INTERVAL;VALUE=DURATION:PT1H
X-Robots-Tag:noindex
X-PUBLISHED-TTL:PT1H
BEGIN:VTIMEZONE
TZID:Europe/Berlin
BEGIN:DAYLIGHT
TZOFFSETFROM:+0100
TZOFFSETTO:+0200
TZNAME:CEST
DTSTART:20230326T010000
END:DAYLIGHT
BEGIN:STANDARD
TZOFFSETFROM:+0200
TZOFFSETTO:+0100
TZNAME:CET
DTSTART:20231029T010000
END:STANDARD
BEGIN:DAYLIGHT
TZOFFSETFROM:+0100
TZOFFSETTO:+0200
TZNAME:CEST
DTSTART:20240331T010000
END:DAYLIGHT
BEGIN:STANDARD
TZOFFSETFROM:+0200
TZOFFSETTO:+0100
TZNAME:CET
DTSTART:20241027T010000
END:STANDARD
BEGIN:DAYLIGHT
TZOFFSETFROM:+0100
TZOFFSETTO:+0200
TZNAME:CEST
DTSTART:20250330T010000
END:DAYLIGHT
BEGIN:STANDARD
TZOFFSETFROM:+0200
TZOFFSETTO:+0100
TZNAME:CET
DTSTART:20251026T010000
END:STANDARD
END:VTIMEZONE
BEGIN:VEVENT
DTSTART;TZID=Europe/Berlin:20240912T160000
DTEND;TZID=Europe/Berlin:20240912T210000
DTSTAMP:20260422T121510
CREATED:20240213T075814Z
LAST-MODIFIED:20240809T170952Z
UID:187-1726156800-1726174800@www.mfsv-kiel.de
SUMMARY:Fliegerstammtisch
DESCRIPTION:bitte beachten: ab 18:30 Uhr findet die außerordentliche Vereinsversammlung statt. Der Grill wird um 19:30 Uhr heiß sein!
URL:https://www.mfsv-kiel.de/event/fliegerstammtisch-6/
LOCATION:Modellflugplatz Langwedel\, Modellflugplatz des Modellflugsport-Verein Kiel e. V.
END:VEVENT
BEGIN:VEVENT
DTSTART;TZID=Europe/Berlin:20240912T183000
DTEND;TZID=Europe/Berlin:20240912T193000
DTSTAMP:20260422T121510
CREATED:20240809T170700Z
LAST-MODIFIED:20240924T180730Z
UID:1460-1726165800-1726169400@www.mfsv-kiel.de
SUMMARY:außerordentliche Vereinsversammlung
DESCRIPTION:Die Tagesordnung sollten alle Vereinsmitglieder bekommen haben\, sonst bitte beim Schriftführer melden! \nUm 19:30 Uhr soll der Grill heiß sein 🙂
URL:https://www.mfsv-kiel.de/event/ausserordentliche-vereinsversammlung/
LOCATION:Modellflugplatz Langwedel\, Modellflugplatz des Modellflugsport-Verein Kiel e. V.
END:VEVENT
END:VCALENDAR