BEGIN:VCALENDAR
VERSION:2.0
PRODID:-//Modellflugsportverein Kiel e. V. - ECPv6.15.18//NONSGML v1.0//EN
CALSCALE:GREGORIAN
METHOD:PUBLISH
X-ORIGINAL-URL:https://www.mfsv-kiel.de
X-WR-CALDESC:Veranstaltungen für Modellflugsportverein Kiel e. V.
REFRESH-INTERVAL;VALUE=DURATION:PT1H
X-Robots-Tag:noindex
X-PUBLISHED-TTL:PT1H
BEGIN:VTIMEZONE
TZID:Europe/Berlin
BEGIN:DAYLIGHT
TZOFFSETFROM:+0100
TZOFFSETTO:+0200
TZNAME:CEST
DTSTART:20230326T010000
END:DAYLIGHT
BEGIN:STANDARD
TZOFFSETFROM:+0200
TZOFFSETTO:+0100
TZNAME:CET
DTSTART:20231029T010000
END:STANDARD
BEGIN:DAYLIGHT
TZOFFSETFROM:+0100
TZOFFSETTO:+0200
TZNAME:CEST
DTSTART:20240331T010000
END:DAYLIGHT
BEGIN:STANDARD
TZOFFSETFROM:+0200
TZOFFSETTO:+0100
TZNAME:CET
DTSTART:20241027T010000
END:STANDARD
BEGIN:DAYLIGHT
TZOFFSETFROM:+0100
TZOFFSETTO:+0200
TZNAME:CEST
DTSTART:20250330T010000
END:DAYLIGHT
BEGIN:STANDARD
TZOFFSETFROM:+0200
TZOFFSETTO:+0100
TZNAME:CET
DTSTART:20251026T010000
END:STANDARD
END:VTIMEZONE
BEGIN:VEVENT
DTSTART;VALUE=DATE:20240906
DTEND;VALUE=DATE:20240909
DTSTAMP:20260422T121343
CREATED:20240318T104237Z
LAST-MODIFIED:20240527T101842Z
UID:852-1725580800-1725839999@www.mfsv-kiel.de
SUMMARY:EXTERN: F-Schlepptreffen bei den Flying Devils in Stralsund
DESCRIPTION:
URL:https://www.mfsv-kiel.de/event/extern-f-schlepptreffen-bei-den-flying-devils-in-stralsund/
LOCATION:Flying Devils Flugplatz\, Strasse am Flugplatz 15\, Stralsund\, Mecklenburg-Vorpommern\, 18435\, Deutschland
CATEGORIES:extern
END:VEVENT
BEGIN:VEVENT
DTSTART;VALUE=DATE:20240906
DTEND;VALUE=DATE:20240909
DTSTAMP:20260422T121343
CREATED:20240829T183256Z
LAST-MODIFIED:20240924T180731Z
UID:1468-1725580800-1725839999@www.mfsv-kiel.de
SUMMARY:EXTERN: Flugtag bei der Modellfluggruppe Bredstedt 2024
DESCRIPTION:Übernachtung ist auch direkt am Platz möglich.  Strom für Wohnwagen ist vorhanden. Alle Klassen und Modelle bis 25 KG sind zugelassen.
URL:https://www.mfsv-kiel.de/event/extern-flugtag-bei-der-modellfluggruppe-bredstedt-2024/
CATEGORIES:extern
END:VEVENT
END:VCALENDAR