BEGIN:VCALENDAR
VERSION:2.0
PRODID:-//Modellflugsportverein Kiel e. V. - ECPv6.15.18//NONSGML v1.0//EN
CALSCALE:GREGORIAN
METHOD:PUBLISH
X-ORIGINAL-URL:https://www.mfsv-kiel.de
X-WR-CALDESC:Veranstaltungen für Modellflugsportverein Kiel e. V.
REFRESH-INTERVAL;VALUE=DURATION:PT1H
X-Robots-Tag:noindex
X-PUBLISHED-TTL:PT1H
BEGIN:VTIMEZONE
TZID:Europe/Berlin
BEGIN:DAYLIGHT
TZOFFSETFROM:+0100
TZOFFSETTO:+0200
TZNAME:CEST
DTSTART:20230326T010000
END:DAYLIGHT
BEGIN:STANDARD
TZOFFSETFROM:+0200
TZOFFSETTO:+0100
TZNAME:CET
DTSTART:20231029T010000
END:STANDARD
BEGIN:DAYLIGHT
TZOFFSETFROM:+0100
TZOFFSETTO:+0200
TZNAME:CEST
DTSTART:20240331T010000
END:DAYLIGHT
BEGIN:STANDARD
TZOFFSETFROM:+0200
TZOFFSETTO:+0100
TZNAME:CET
DTSTART:20241027T010000
END:STANDARD
BEGIN:DAYLIGHT
TZOFFSETFROM:+0100
TZOFFSETTO:+0200
TZNAME:CEST
DTSTART:20250330T010000
END:DAYLIGHT
BEGIN:STANDARD
TZOFFSETFROM:+0200
TZOFFSETTO:+0100
TZNAME:CET
DTSTART:20251026T010000
END:STANDARD
END:VTIMEZONE
BEGIN:VEVENT
DTSTART;VALUE=DATE:20240817
DTEND;VALUE=DATE:20240819
DTSTAMP:20260422T135449
CREATED:20240318T103821Z
LAST-MODIFIED:20240806T125656Z
UID:849-1723852800-1724025599@www.mfsv-kiel.de
SUMMARY:EXTERN: F-Schlepptreffen bei der FAG Kaltenkirchen
DESCRIPTION:Achtung: Unbedingt die baustellenbedingte veränderte Anfahrt beachten! Und in Schmalfeld nicht vom Sackgassenschild an der Lentföhrdener Straße irritieren lassen – die Sackgasse beginnt erst hinter der Einfahrt zum Flugplatz.
URL:https://www.mfsv-kiel.de/event/extern-f-schlepptreffen-bei-der-fag-kaltenkirchen/
LOCATION:FAG Kaltenkirchen Modellflugplatz\, 53.884611\, 9.931278
CATEGORIES:extern
END:VEVENT
END:VCALENDAR