BEGIN:VCALENDAR
VERSION:2.0
PRODID:-//Modellflugsportverein Kiel e. V. - ECPv6.15.18//NONSGML v1.0//EN
CALSCALE:GREGORIAN
METHOD:PUBLISH
X-WR-CALNAME:Modellflugsportverein Kiel e. V.
X-ORIGINAL-URL:https://www.mfsv-kiel.de
X-WR-CALDESC:Veranstaltungen für Modellflugsportverein Kiel e. V.
REFRESH-INTERVAL;VALUE=DURATION:PT1H
X-Robots-Tag:noindex
X-PUBLISHED-TTL:PT1H
BEGIN:VTIMEZONE
TZID:Europe/Berlin
BEGIN:DAYLIGHT
TZOFFSETFROM:+0100
TZOFFSETTO:+0200
TZNAME:CEST
DTSTART:20230326T010000
END:DAYLIGHT
BEGIN:STANDARD
TZOFFSETFROM:+0200
TZOFFSETTO:+0100
TZNAME:CET
DTSTART:20231029T010000
END:STANDARD
BEGIN:DAYLIGHT
TZOFFSETFROM:+0100
TZOFFSETTO:+0200
TZNAME:CEST
DTSTART:20240331T010000
END:DAYLIGHT
BEGIN:STANDARD
TZOFFSETFROM:+0200
TZOFFSETTO:+0100
TZNAME:CET
DTSTART:20241027T010000
END:STANDARD
BEGIN:DAYLIGHT
TZOFFSETFROM:+0100
TZOFFSETTO:+0200
TZNAME:CEST
DTSTART:20250330T010000
END:DAYLIGHT
BEGIN:STANDARD
TZOFFSETFROM:+0200
TZOFFSETTO:+0100
TZNAME:CET
DTSTART:20251026T010000
END:STANDARD
END:VTIMEZONE
BEGIN:VEVENT
DTSTART;VALUE=DATE:20240803
DTEND;VALUE=DATE:20240811
DTSTAMP:20260422T134717
CREATED:20240318T103632Z
LAST-MODIFIED:20240527T101843Z
UID:847-1722643200-1723334399@www.mfsv-kiel.de
SUMMARY:EXTERN: Norddeutsches Modellfliegertreffen Tarp
DESCRIPTION:Montag bis Samstag wird voraussichtlich Verpflegung angeboten\, auch ein Brötchenservice ist in Planung. An- und Abreisen am besten im Vorfeld abstimmen. Es fällt zur Kostendeckung eine kleine Campinggebühr an. Duschen und sanitäre Anlagen stehen wie gewohnt zur Verfügung. Der Rückbau beginnt am Sonntag\, 11.08.2024\, dabei kann es zu Störungen des Flugbetriebs kommen.
URL:https://www.mfsv-kiel.de/event/extern-norddeutsches-modellfliegertreffen-tarp/
LOCATION:Modellflug-Club Tarp e. V. Flugplatz\, Modellflug-Club Tarp e.V.\, Norderholzweg\, Jerrishoe\, Schleswig-Holstein\, 24963\, Deutschland
CATEGORIES:extern
END:VEVENT
END:VCALENDAR