BEGIN:VCALENDAR
VERSION:2.0
PRODID:-//Modellflugsportverein Kiel e. V. - ECPv6.15.18//NONSGML v1.0//EN
CALSCALE:GREGORIAN
METHOD:PUBLISH
X-ORIGINAL-URL:https://www.mfsv-kiel.de
X-WR-CALDESC:Veranstaltungen für Modellflugsportverein Kiel e. V.
REFRESH-INTERVAL;VALUE=DURATION:PT1H
X-Robots-Tag:noindex
X-PUBLISHED-TTL:PT1H
BEGIN:VTIMEZONE
TZID:Europe/Berlin
BEGIN:DAYLIGHT
TZOFFSETFROM:+0100
TZOFFSETTO:+0200
TZNAME:CEST
DTSTART:20230326T010000
END:DAYLIGHT
BEGIN:STANDARD
TZOFFSETFROM:+0200
TZOFFSETTO:+0100
TZNAME:CET
DTSTART:20231029T010000
END:STANDARD
BEGIN:DAYLIGHT
TZOFFSETFROM:+0100
TZOFFSETTO:+0200
TZNAME:CEST
DTSTART:20240331T010000
END:DAYLIGHT
BEGIN:STANDARD
TZOFFSETFROM:+0200
TZOFFSETTO:+0100
TZNAME:CET
DTSTART:20241027T010000
END:STANDARD
BEGIN:DAYLIGHT
TZOFFSETFROM:+0100
TZOFFSETTO:+0200
TZNAME:CEST
DTSTART:20250330T010000
END:DAYLIGHT
BEGIN:STANDARD
TZOFFSETFROM:+0200
TZOFFSETTO:+0100
TZNAME:CET
DTSTART:20251026T010000
END:STANDARD
END:VTIMEZONE
BEGIN:VEVENT
DTSTART;VALUE=DATE:20240614
DTEND;VALUE=DATE:20240617
DTSTAMP:20260422T171946
CREATED:20240318T103231Z
LAST-MODIFIED:20240527T101843Z
UID:840-1718323200-1718582399@www.mfsv-kiel.de
SUMMARY:EXTERN: Freundschaftsfliegen in Tarp
DESCRIPTION:Freitag und Samstag wird voraussichtlich Verpflegung angeboten. An- und Abreisen am besten im Vorfeld abstimmen. Es fällt zur Kostendeckung eine kleine Campinggebühr an. Duschen und sanitäre Anlagen stehen wie gewohnt zur Verfügung.
URL:https://www.mfsv-kiel.de/event/extern-freundschaftsfliegen-in-tarp/
LOCATION:Modellflug-Club Tarp e. V. Flugplatz\, Modellflug-Club Tarp e.V.\, Norderholzweg\, Jerrishoe\, Schleswig-Holstein\, 24963\, Deutschland
CATEGORIES:extern
END:VEVENT
BEGIN:VEVENT
DTSTART;TZID=Europe/Berlin:20240615T100000
DTEND;TZID=Europe/Berlin:20240615T170000
DTSTAMP:20260422T171946
CREATED:20240403T160834Z
LAST-MODIFIED:20240602T182344Z
UID:935-1718445600-1718470800@www.mfsv-kiel.de
SUMMARY:Schnupperfliegen
DESCRIPTION:Du möchtest wissen\, wie man selbst einen Flieger in die Luft bekommt und willst selbst mal die Steuerknüppel in die Hand nehmen? Dein Kuscheltier soll mal als Pilot in einem Flieger unterwegs sein? Flieger bauen wolltest Du immer schon? Schau vorbei\, heute ist Dein Tag!
URL:https://www.mfsv-kiel.de/event/schnupperfliegen/
LOCATION:Modellflugplatz Langwedel\, Modellflugplatz des Modellflugsport-Verein Kiel e. V.
END:VEVENT
END:VCALENDAR